BEGIN:VCALENDAR
VERSION:2.0
PRODID:-//Plone.org//NONSGML plone.app.event//EN
X-WR-TIMEZONE:America/Toronto
BEGIN:VEVENT
SUMMARY:Qualisys Motion Capture Camera System Workshop
DTSTART;TZID=America/Montreal;VALUE=DATE-TIME:20121212T140000
DTEND;TZID=America/Montreal;VALUE=DATE-TIME:20121212T170000
DTSTAMP;VALUE=DATE-TIME:20260421T204819Z
UID:507ae5ce728241c5a0bcbe83ff4da82f@project_zeoclients
CREATED;VALUE=DATE-TIME:20200915T102930Z
DESCRIPTION:An introduction to the Qualisys MOCAP system.
LAST-MODIFIED;VALUE=DATE-TIME:20220211T180621Z
LOCATION:A818\, New Music Building\, 527 Sherbrooke St. West. 
URL:https://www.cirmmt.org/fr/events/workshops/training/qualisys/event_201
 21212
END:VEVENT
BEGIN:VTIMEZONE
TZID:America/Montreal
X-LIC-LOCATION:America/Montreal
BEGIN:STANDARD
DTSTART;VALUE=DATE-TIME:20121104T010000
TZNAME:EST
TZOFFSETFROM:-0400
TZOFFSETTO:-0500
END:STANDARD
END:VTIMEZONE
END:VCALENDAR
