BEGIN:VCALENDAR
VERSION:2.0
PRODID:-//Plone.org//NONSGML plone.app.event//EN
X-WR-TIMEZONE:America/Toronto
BEGIN:VEVENT
SUMMARY:CIRMMT Portable Digital Recorders
DTSTART;TZID=America/Montreal;VALUE=DATE-TIME:20081211T130000
DTEND;TZID=America/Montreal;VALUE=DATE-TIME:20081211T140000
DTSTAMP;VALUE=DATE-TIME:20260422T013853Z
UID:a9707361d4b74425a3877b1d546f4f93@project_zeoclients
CREATED;VALUE=DATE-TIME:20210321T220224Z
DESCRIPTION:Use and care of CIRMMT's portable digital recorders.
LAST-MODIFIED;VALUE=DATE-TIME:20210420T151229Z
LOCATION:CIRMMT Meeting Room\, A807\, New Music Building\, 527 Sherbrooke 
 St. West
URL:https://www.cirmmt.org/fr/events/workshops/training/recorders/event
END:VEVENT
BEGIN:VTIMEZONE
TZID:America/Montreal
X-LIC-LOCATION:America/Montreal
BEGIN:STANDARD
DTSTART;VALUE=DATE-TIME:20081102T010000
TZNAME:EST
TZOFFSETFROM:-0400
TZOFFSETTO:-0500
END:STANDARD
END:VTIMEZONE
END:VCALENDAR
