BEGIN:VCALENDAR
VERSION:2.0
PRODID:-//Plone.org//NONSGML plone.app.event//EN
X-WR-TIMEZONE:America/Toronto
BEGIN:VEVENT
SUMMARY:Sony EX-3 Camera Workshop
DTSTART;TZID=America/Montreal;VALUE=DATE-TIME:20100609T130000
DTEND;TZID=America/Montreal;VALUE=DATE-TIME:20100609T150000
DTSTAMP;VALUE=DATE-TIME:20260422T002912Z
UID:03eadfcde2054fc88c99c73a98bdf64c@project_zeoclients
CREATED;VALUE=DATE-TIME:20210321T220225Z
DESCRIPTION:An introduction to the Sony EX-3 camera
LAST-MODIFIED;VALUE=DATE-TIME:20210420T151230Z
LOCATION:A807\, New Music Building\, 527 Sherbrooke St. West. Enter via 55
 5 Sherbrooke St. West.
URL:https://www.cirmmt.org/fr/events/workshops/training/sony-camera/event
END:VEVENT
BEGIN:VTIMEZONE
TZID:America/Montreal
X-LIC-LOCATION:America/Montreal
BEGIN:DAYLIGHT
DTSTART;VALUE=DATE-TIME:20100314T030000
TZNAME:EDT
TZOFFSETFROM:-0500
TZOFFSETTO:-0400
END:DAYLIGHT
END:VTIMEZONE
END:VCALENDAR
