BEGIN:VCALENDAR
VERSION:2.0
PRODID:-//Plone.org//NONSGML plone.app.event//EN
X-WR-TIMEZONE:America/Toronto
BEGIN:VEVENT
SUMMARY:Sony EX-3 Camera Workshop
DTSTART;TZID=America/Montreal;VALUE=DATE-TIME:20131029T100000
DTEND;TZID=America/Montreal;VALUE=DATE-TIME:20131029T120000
DTSTAMP;VALUE=DATE-TIME:20260421T192937Z
UID:f4f3de00c1fa474c96cf12b1619ffc63@project_zeoclients
CREATED;VALUE=DATE-TIME:20210321T220227Z
DESCRIPTION:An introduction to the Sony EX-3 camera
LAST-MODIFIED;VALUE=DATE-TIME:20210420T151230Z
LOCATION:A807\, New Music Building\, 527 Sherbrooke St. West.
URL:https://www.cirmmt.org/fr/events/workshops/training/sony-camera/event_
 20131029
END:VEVENT
BEGIN:VTIMEZONE
TZID:America/Montreal
X-LIC-LOCATION:America/Montreal
BEGIN:DAYLIGHT
DTSTART;VALUE=DATE-TIME:20130310T030000
TZNAME:EDT
TZOFFSETFROM:-0500
TZOFFSETTO:-0400
END:DAYLIGHT
END:VTIMEZONE
END:VCALENDAR
