BEGIN:VCALENDAR
VERSION:2.0
PRODID:-//Plone.org//NONSGML plone.app.event//EN
X-WR-TIMEZONE:America/Toronto
BEGIN:VEVENT
SUMMARY:Sony EX-3 Camera Workshop
DTSTART;TZID=America/Montreal;VALUE=DATE-TIME:20160225T100000
DTEND;TZID=America/Montreal;VALUE=DATE-TIME:20160225T120000
DTSTAMP;VALUE=DATE-TIME:20260421T175149Z
UID:a125daecc4104011b1640b97878a77fb@project_zeoclients
CREATED;VALUE=DATE-TIME:20210321T220228Z
DESCRIPTION:An introduction to the Sony EX-3 camera
LAST-MODIFIED;VALUE=DATE-TIME:20210420T151230Z
LOCATION:A807\, New Music Building\, 527 Sherbrooke St. West.
URL:https://www.cirmmt.org/fr/events/workshops/training/sony-camera/event_
 20160225
END:VEVENT
BEGIN:VTIMEZONE
TZID:America/Montreal
X-LIC-LOCATION:America/Montreal
BEGIN:STANDARD
DTSTART;VALUE=DATE-TIME:20151101T010000
TZNAME:EST
TZOFFSETFROM:-0400
TZOFFSETTO:-0500
END:STANDARD
END:VTIMEZONE
END:VCALENDAR
