BEGIN:VCALENDAR
VERSION:2.0
PRODID:-//Plone.org//NONSGML plone.app.event//EN
X-WR-TIMEZONE:America/Toronto
BEGIN:VEVENT
SUMMARY:Robert Wechsler workshops and presentation: Movement\, expression 
 and music
DTSTART;TZID=America/Montreal;VALUE=DATE-TIME:20120229T130000
DTEND;TZID=America/Montreal;VALUE=DATE-TIME:20120302T180000
DTSTAMP;VALUE=DATE-TIME:20260421T220744Z
UID:18b66c1e696244b4950ace07b8be2b64@project_zeoclients
CREATED;VALUE=DATE-TIME:20210321T220229Z
DESCRIPTION:Robert Wechsler will present two days of intensive workshops o
 n February 29th and March 1st\, discussing the use of motion tracking tech
 nology to control sound synthesis\, followed by a roundtable on March 2nd.
   These workshops are supported by the Centre for Interdisciplinary Resear
 ch in Music Media and Technology (CIRMMT) and the Goethe-Institut.
LAST-MODIFIED;VALUE=DATE-TIME:20210420T151231Z
LOCATION:A807 (CIRMMT Conference Room) & A832\, New Music Building\, 527 S
 herbrooke St. West. 
URL:https://www.cirmmt.org/fr/events/workshops/training/wechsler/zadel1
END:VEVENT
BEGIN:VTIMEZONE
TZID:America/Montreal
X-LIC-LOCATION:America/Montreal
BEGIN:STANDARD
DTSTART;VALUE=DATE-TIME:20111106T010000
TZNAME:EST
TZOFFSETFROM:-0400
TZOFFSETTO:-0500
END:STANDARD
END:VTIMEZONE
END:VCALENDAR
